BEGIN:VCALENDAR
VERSION:2.0
PRODID:Jerome Township, OH Calendar Creator
METHOD:PUBLISH
BEGIN:VEVENT
DTSTAMP:20260409T061302
DTSTART:20260412T140000
DTEND:20260412T160000
SUMMARY:Field Rented
DESCRIPTION:
X-ALT-DESC;FMTTYPE=text/html:
LOCATION:Harry Wolfe Park\, Industrial Parkway Plain City\, Ohio 43064
CLASS:PUBLIC
END:VEVENT
END:VCALENDAR
